BEGIN:VCALENDAR
VERSION:2.0
PRODID:-//The Secret Door Crystal Shops - ECPv6.15.20//NONSGML v1.0//EN
CALSCALE:GREGORIAN
METHOD:PUBLISH
X-ORIGINAL-URL:https://thesecretdoormh.com
X-WR-CALDESC:Events for The Secret Door Crystal Shops
REFRESH-INTERVAL;VALUE=DURATION:PT1H
X-Robots-Tag:noindex
X-PUBLISHED-TTL:PT1H
BEGIN:VTIMEZONE
TZID:America/Los_Angeles
BEGIN:DAYLIGHT
TZOFFSETFROM:-0800
TZOFFSETTO:-0700
TZNAME:PDT
DTSTART:20240310T100000
END:DAYLIGHT
BEGIN:STANDARD
TZOFFSETFROM:-0700
TZOFFSETTO:-0800
TZNAME:PST
DTSTART:20241103T090000
END:STANDARD
BEGIN:DAYLIGHT
TZOFFSETFROM:-0800
TZOFFSETTO:-0700
TZNAME:PDT
DTSTART:20250309T100000
END:DAYLIGHT
BEGIN:STANDARD
TZOFFSETFROM:-0700
TZOFFSETTO:-0800
TZNAME:PST
DTSTART:20251102T090000
END:STANDARD
BEGIN:DAYLIGHT
TZOFFSETFROM:-0800
TZOFFSETTO:-0700
TZNAME:PDT
DTSTART:20260308T100000
END:DAYLIGHT
BEGIN:STANDARD
TZOFFSETFROM:-0700
TZOFFSETTO:-0800
TZNAME:PST
DTSTART:20261101T090000
END:STANDARD
END:VTIMEZONE
BEGIN:VEVENT
DTSTART;TZID=America/Los_Angeles:20251205T160000
DTEND;TZID=America/Los_Angeles:20251205T210000
DTSTAMP:20260421T143936
CREATED:20251121T175427Z
LAST-MODIFIED:20251121T175427Z
UID:14845-1764950400-1764968400@thesecretdoormh.com
SUMMARY:The Secret Door Pop Up - Merry Market
DESCRIPTION:Step into The Secret Door\, a magical crystal shop pop-up at Merry Market Holiday Bazaar in Morgan Hill  CA where you’ll find a curated selection of healing energy gifts. Discover an array of stunning crystals\, intention candles\, aromatic incense\, soothing bath and body products\, and exquisite crystal jewelry. Each item is thoughtfully chosen to uplift your spirit and enhance your personal energy. Whether you’re seeking to harmonize your space\, treat yourself\, or find the perfect gift\, this enchanting pop-up offers something special for everyone. Explore the world of crystal healing and wellness behind The Secret Door at Merry Market Holiday Bazaar.
URL:https://thesecretdoormh.com/event/the-secret-door-pop-up-merry-market/
LOCATION:CA
CATEGORIES:Pop Up Event
ATTACH;FMTTYPE=image/jpeg:https://thesecretdoormh.com/wp-content/uploads/2025/11/Merry-Market.jpg
END:VEVENT
BEGIN:VEVENT
DTSTART;TZID=America/Los_Angeles:20251206T100000
DTEND;TZID=America/Los_Angeles:20251206T180000
DTSTAMP:20260421T143936
CREATED:20251120T071733Z
LAST-MODIFIED:20251120T073716Z
UID:14839-1765015200-1765044000@thesecretdoormh.com
SUMMARY:The Secret Door at Pleasanton Enlightenment Expo
DESCRIPTION:Step into The Secret Door\, an inviting sanctuary and magical crystal shop pop-up at the Pleasanton Enlightenment Expo—where curiosity\, intuition\, and personal transformation meet. Our space is designed to help guests explore the unseen layers of their inner world through meaningful tools\, heartfelt guidance\, and intuitive insight. \nVisitors are welcomed with warmth and encouragement to embrace their spiritual journey\, whether they are seeking clarity\, healing\, balance\, or simply a spark of inspiration. At The Secret Door\, you’ll discover a curated selection of metaphysical offerings and healing-energy gifts\, including stunning crystals\, intention candles\, aromatic incense\, soothing bath and body products\, and exquisite crystal jewelry. Each item is thoughtfully chosen to uplift your spirit\, elevate your energy\, and support your personal growth. We also feature intuitive services and wisdom-based resources designed to awaken your awareness and empower your inner transformation. \nMore than a booth\, The Secret Door is a threshold—a reminder that every moment holds the potential for transformation. Whether you’re harmonizing your space\, treating yourself\, or searching for the perfect gift\, this enchanting pop-up offers something special for everyone.
URL:https://thesecretdoormh.com/event/the-secret-door-at-pleasanton-enlightenment-expo/
LOCATION:Sheraton Four Points Pleasanton\, 5115 HOPYARD ROAD\,\, PLEASANTON\,\, CA\, 94588\, United States
CATEGORIES:Pop Up Event
ATTACH;FMTTYPE=image/jpeg:https://thesecretdoormh.com/wp-content/uploads/2025/11/pleasanton-enlight.jpg
END:VEVENT
BEGIN:VEVENT
DTSTART;TZID=America/Los_Angeles:20251207T100000
DTEND;TZID=America/Los_Angeles:20251207T180000
DTSTAMP:20260421T143936
CREATED:20251120T073440Z
LAST-MODIFIED:20251120T073608Z
UID:14844-1765101600-1765130400@thesecretdoormh.com
SUMMARY:The Secret Door at Pleasanton Enlightenment Expo
DESCRIPTION:Step into The Secret Door\, an inviting sanctuary and magical crystal shop pop-up at the Pleasanton Enlightenment Expo—where curiosity\, intuition\, and personal transformation meet. Our space is designed to help guests explore the unseen layers of their inner world through meaningful tools\, heartfelt guidance\, and intuitive insight. \nVisitors are welcomed with warmth and encouragement to embrace their spiritual journey\, whether they are seeking clarity\, healing\, balance\, or simply a spark of inspiration. At The Secret Door\, you’ll discover a curated selection of metaphysical offerings and healing-energy gifts\, including stunning crystals\, intention candles\, aromatic incense\, soothing bath and body products\, and exquisite crystal jewelry. Each item is thoughtfully chosen to uplift your spirit\, elevate your energy\, and support your personal growth. We also feature intuitive services and wisdom-based resources designed to awaken your awareness and empower your inner transformation. \nMore than a booth\, The Secret Door is a threshold—a reminder that every moment holds the potential for transformation. Whether you’re harmonizing your space\, treating yourself\, or searching for the perfect gift\, this enchanting pop-up offers something special for everyone.
URL:https://thesecretdoormh.com/event/the-secret-door-at-pleasanton-enlightenment-expo-2/
LOCATION:Sheraton Four Points Pleasanton\, 5115 HOPYARD ROAD\,\, PLEASANTON\,\, CA\, 94588\, United States
CATEGORIES:Pop Up Event
ATTACH;FMTTYPE=image/jpeg:https://thesecretdoormh.com/wp-content/uploads/2025/11/pleasanton-enlight.jpg
END:VEVENT
BEGIN:VEVENT
DTSTART;TZID=America/Los_Angeles:20251219T103000
DTEND;TZID=America/Los_Angeles:20251219T190000
DTSTAMP:20260421T143936
CREATED:20251119T070717Z
LAST-MODIFIED:20251120T063810Z
UID:14835-1766140200-1766170800@thesecretdoormh.com
SUMMARY:The Secret Door Pop Up - Nordstrom Valley Fair
DESCRIPTION:Step into The Secret Door\, a magical crystal shop pop-up at Nordstrom Valley Fair in San Jose\, CA where you’ll find a curated selection of healing energy gifts. Discover an array of stunning crystals\, intention candles\, aromatic incense\, soothing bath and body products\, and exquisite crystal jewelry. Each item is thoughtfully chosen to uplift your spirit and enhance your personal energy. Whether you’re seeking to harmonize your space\, treat yourself\, or find the perfect gift\, this enchanting pop-up offers something special for everyone. Explore the world of crystal healing and wellness behind The Secret Door at Nordstrom Valley Fair.
URL:https://thesecretdoormh.com/event/the-secret-door-pop-up-nordstrom-valley-fair-21/
LOCATION:Nordstrom Valley Fair\, 2400 Forrest Ave\, San Jose\, CA\, 95128\, United States
CATEGORIES:Pop Up Event
ATTACH;FMTTYPE=image/jpeg:https://thesecretdoormh.com/wp-content/uploads/2025/11/pop-up-dec-2025-nordstrom.jpg
END:VEVENT
BEGIN:VEVENT
DTSTART;TZID=America/Los_Angeles:20251220T103000
DTEND;TZID=America/Los_Angeles:20251220T190000
DTSTAMP:20260421T143936
CREATED:20251119T071242Z
LAST-MODIFIED:20251120T063843Z
UID:14837-1766226600-1766257200@thesecretdoormh.com
SUMMARY:The Secret Door Pop Up - Nordstrom Valley Fair
DESCRIPTION:Step into The Secret Door\, a magical crystal shop pop-up at Nordstrom Valley Fair in San Jose\, CA where you’ll find a curated selection of healing energy gifts. Discover an array of stunning crystals\, intention candles\, aromatic incense\, soothing bath and body products\, and exquisite crystal jewelry. Each item is thoughtfully chosen to uplift your spirit and enhance your personal energy. Whether you’re seeking to harmonize your space\, treat yourself\, or find the perfect gift\, this enchanting pop-up offers something special for everyone. Explore the world of crystal healing and wellness behind The Secret Door at Nordstrom Valley Fair.
URL:https://thesecretdoormh.com/event/the-secret-door-pop-up-nordstrom-valley-fair-22/
LOCATION:Nordstrom Valley Fair\, 2400 Forrest Ave\, San Jose\, CA\, 95128\, United States
CATEGORIES:Pop Up Event
ATTACH;FMTTYPE=image/jpeg:https://thesecretdoormh.com/wp-content/uploads/2025/11/pop-up-dec-2025-nordstrom.jpg
END:VEVENT
BEGIN:VEVENT
DTSTART;TZID=America/Los_Angeles:20251222T103000
DTEND;TZID=America/Los_Angeles:20251222T190000
DTSTAMP:20260421T143936
CREATED:20251119T071609Z
LAST-MODIFIED:20251120T063912Z
UID:14838-1766399400-1766430000@thesecretdoormh.com
SUMMARY:The Secret Door Pop Up - Nordstrom Valley Fair
DESCRIPTION:Step into The Secret Door\, a magical crystal shop pop-up at Nordstrom Valley Fair in San Jose\, CA where you’ll find a curated selection of healing energy gifts. Discover an array of stunning crystals\, intention candles\, aromatic incense\, soothing bath and body products\, and exquisite crystal jewelry. Each item is thoughtfully chosen to uplift your spirit and enhance your personal energy. Whether you’re seeking to harmonize your space\, treat yourself\, or find the perfect gift\, this enchanting pop-up offers something special for everyone. Explore the world of crystal healing and wellness behind The Secret Door at Nordstrom Valley Fair.
URL:https://thesecretdoormh.com/event/the-secret-door-pop-up-nordstrom-valley-fair-23/
LOCATION:Nordstrom Valley Fair\, 2400 Forrest Ave\, San Jose\, CA\, 95128\, United States
CATEGORIES:Pop Up Event
ATTACH;FMTTYPE=image/jpeg:https://thesecretdoormh.com/wp-content/uploads/2025/11/pop-up-dec-2025-nordstrom.jpg
END:VEVENT
END:VCALENDAR