BEGIN:VCALENDAR
VERSION:2.0
PRODID:-//The Secret Door Crystal Shops - ECPv6.15.20//NONSGML v1.0//EN
CALSCALE:GREGORIAN
METHOD:PUBLISH
X-WR-CALNAME:The Secret Door Crystal Shops
X-ORIGINAL-URL:https://thesecretdoormh.com
X-WR-CALDESC:Events for The Secret Door Crystal Shops
REFRESH-INTERVAL;VALUE=DURATION:PT1H
X-Robots-Tag:noindex
X-PUBLISHED-TTL:PT1H
BEGIN:VTIMEZONE
TZID:America/Los_Angeles
BEGIN:DAYLIGHT
TZOFFSETFROM:-0800
TZOFFSETTO:-0700
TZNAME:PDT
DTSTART:20200308T100000
END:DAYLIGHT
BEGIN:STANDARD
TZOFFSETFROM:-0700
TZOFFSETTO:-0800
TZNAME:PST
DTSTART:20201101T090000
END:STANDARD
BEGIN:DAYLIGHT
TZOFFSETFROM:-0800
TZOFFSETTO:-0700
TZNAME:PDT
DTSTART:20210314T100000
END:DAYLIGHT
BEGIN:STANDARD
TZOFFSETFROM:-0700
TZOFFSETTO:-0800
TZNAME:PST
DTSTART:20211107T090000
END:STANDARD
BEGIN:DAYLIGHT
TZOFFSETFROM:-0800
TZOFFSETTO:-0700
TZNAME:PDT
DTSTART:20220313T100000
END:DAYLIGHT
BEGIN:STANDARD
TZOFFSETFROM:-0700
TZOFFSETTO:-0800
TZNAME:PST
DTSTART:20221106T090000
END:STANDARD
BEGIN:DAYLIGHT
TZOFFSETFROM:-0800
TZOFFSETTO:-0700
TZNAME:PDT
DTSTART:20230312T100000
END:DAYLIGHT
BEGIN:STANDARD
TZOFFSETFROM:-0700
TZOFFSETTO:-0800
TZNAME:PST
DTSTART:20231105T090000
END:STANDARD
BEGIN:DAYLIGHT
TZOFFSETFROM:-0800
TZOFFSETTO:-0700
TZNAME:PDT
DTSTART:20240310T100000
END:DAYLIGHT
BEGIN:STANDARD
TZOFFSETFROM:-0700
TZOFFSETTO:-0800
TZNAME:PST
DTSTART:20241103T090000
END:STANDARD
END:VTIMEZONE
BEGIN:VEVENT
DTSTART;TZID=America/Los_Angeles:20230812T110000
DTEND;TZID=America/Los_Angeles:20230812T140000
DTSTAMP:20260421T085540
CREATED:20230808T030520Z
LAST-MODIFIED:20230808T125123Z
UID:7201-1691838000-1691848800@thesecretdoormh.com
SUMMARY:Crystal Friendship Bracelet Making Class
DESCRIPTION:Crystal Friendship Bracelet Making Class. Celebrate Friendship\, Energy\, and Crystal Jewelry!! Join us for a fun afternoon in this cool and interesting bracelet-making class!! Learn how to choose Crystals for their energy and construct an awesome Crystal stretch bracelet made just for you. Bring a Friend and create a BFF set\, or craft a Mommy and Me style … the options are endless! \nThe price includes all bracelet-making materials\, refreshments\, lite bites\, and FUN!!.
URL:https://thesecretdoormh.com/event/crystal-friendship-bracelet-making-class/
LOCATION:The Secret Door Gallery and Wellness Centre\, 17015 Walnut Grove Dr. Suite 103\, Morgan Hill\, CA\, 95037\, United States
CATEGORIES:In Store Classes
ATTACH;FMTTYPE=image/jpeg:https://thesecretdoormh.com/wp-content/uploads/2023/08/freindship-braclet-class.jpg
END:VEVENT
BEGIN:VEVENT
DTSTART;TZID=America/Los_Angeles:20230316T183000
DTEND;TZID=America/Los_Angeles:20230316T193000
DTSTAMP:20260421T085540
CREATED:20230310T235816Z
LAST-MODIFIED:20230311T000408Z
UID:5805-1678991400-1678995000@thesecretdoormh.com
SUMMARY:Lead with JOY - 7 Week Series
DESCRIPTION:Whether you are wanting to balance all 7 chakras or are interested in working on one specific chakra\, this 7-week exploration to center on what is. We will ground and nourish ourselves from our sacred chakras through gentle and intuitive yoga. Thursday evenings starting March 2nd – April 13th from 6:30 pm – 7:30 pm $25
URL:https://thesecretdoormh.com/event/lead-with-joy-7-week-yoga-series-2/
LOCATION:The Secret Door Gallery and Wellness Centre\, 17015 Walnut Grove Dr. Suite 103\, Morgan Hill\, CA\, 95037\, United States
CATEGORIES:In Store Classes
ATTACH;FMTTYPE=image/jpeg:https://thesecretdoormh.com/wp-content/uploads/2023/01/lead-with-Joy.jpg
END:VEVENT
BEGIN:VEVENT
DTSTART;TZID=America/Los_Angeles:20230309T183000
DTEND;TZID=America/Los_Angeles:20230309T193000
DTSTAMP:20260421T085540
CREATED:20230306T130036Z
LAST-MODIFIED:20230306T130036Z
UID:5775-1678386600-1678390200@thesecretdoormh.com
SUMMARY:Lead with JOY - 7 Week Chakra Balancing Series
DESCRIPTION:Whether you are wanting to balance all 7 chakras or are interested in working on one specific chakra\, this 7-week exploration to center on what is. We will ground and nourish ourselves from our sacred chakras through gentle and intuitive yoga. Thursday evenings starting January 12th – February 23rd from 6:30 pm – 7:30 pm $25
URL:https://thesecretdoormh.com/event/lead-with-joy-7-week-chakra-balancing-series/
LOCATION:The Secret Door Gallery and Wellness Centre\, 17015 Walnut Grove Dr. Suite 103\, Morgan Hill\, CA\, 95037\, United States
CATEGORIES:In Store Classes
ATTACH;FMTTYPE=image/jpeg:https://thesecretdoormh.com/wp-content/uploads/2023/01/lead-with-Joy.jpg
END:VEVENT
BEGIN:VEVENT
DTSTART;TZID=America/Los_Angeles:20230302T183000
DTEND;TZID=America/Los_Angeles:20230302T193000
DTSTAMP:20260421T085540
CREATED:20230228T233107Z
LAST-MODIFIED:20230228T233508Z
UID:5762-1677781800-1677785400@thesecretdoormh.com
SUMMARY:Lead with JOY - 7 Week Yoga Series
DESCRIPTION:Whether you are wanting to balance all 7 chakras or are interested in working on one specific chakra\, this 7-week exploration centers on what is. We will ground and nourish ourselves from our sacred chakras through gentle and intuitive yoga. Thursday evenings starting March 2nd – April 13th from 6:30 pm – 7:30 pm $25
URL:https://thesecretdoormh.com/event/lead-with-joy-7-week-yoga-series/
LOCATION:The Secret Door Gallery and Wellness Centre\, 17015 Walnut Grove Dr. Suite 103\, Morgan Hill\, CA\, 95037\, United States
CATEGORIES:In Store Classes
ATTACH;FMTTYPE=image/jpeg:https://thesecretdoormh.com/wp-content/uploads/2023/01/lead-with-Joy.jpg
END:VEVENT
BEGIN:VEVENT
DTSTART;TZID=America/Los_Angeles:20230223T183000
DTEND;TZID=America/Los_Angeles:20230223T193000
DTSTAMP:20260421T085540
CREATED:20230215T151731Z
LAST-MODIFIED:20230215T151731Z
UID:5741-1677177000-1677180600@thesecretdoormh.com
SUMMARY:Lead with JOY: Yoga Series
DESCRIPTION:Whether you are wanting to balance all 7 chakras or are interested in working on one specific chakra\, this 7-week exploration centers on what is. We will ground and nourish ourselves from our sacred chakras through gentle and intuitive yoga. Thursday evenings starting January 12th – February 23rd from 6:30 pm – 7:30 pm $25
URL:https://thesecretdoormh.com/event/lead-with-joy-yoga-series-2/
LOCATION:The Secret Door Gallery and Wellness Centre\, 17015 Walnut Grove Dr. Suite 103\, Morgan Hill\, CA\, 95037\, United States
CATEGORIES:In Store Classes
ATTACH;FMTTYPE=image/jpeg:https://thesecretdoormh.com/wp-content/uploads/2023/01/lead-with-Joy.jpg
ORGANIZER;CN="The Secret Door Gallery and Wellness Centre":MAILTO:info@thesecretdoormh.com
END:VEVENT
BEGIN:VEVENT
DTSTART;TZID=America/Los_Angeles:20230126T183000
DTEND;TZID=America/Los_Angeles:20230126T193000
DTSTAMP:20260421T085540
CREATED:20230103T233355Z
LAST-MODIFIED:20230103T233355Z
UID:5723-1674757800-1674761400@thesecretdoormh.com
SUMMARY:Lead with JOY - 7 Week Series
DESCRIPTION:Whether you are wanting to balance all 7 chakras or are interested in working on one specific chakra\, this 7-week exploration to center on what is. We will ground and nourish ourselves from our sacred chakras through gentle and intuitive yoga. Thursday evenings starting January 12th – February 23rd from 6:30pm – 7:30pm $25
URL:https://thesecretdoormh.com/event/lead-with-joy-7-week-series-3/
LOCATION:The Secret Door Gallery and Wellness Centre\, 17015 Walnut Grove Dr. Suite 103\, Morgan Hill\, CA\, 95037\, United States
CATEGORIES:In Store Classes
ATTACH;FMTTYPE=image/jpeg:https://thesecretdoormh.com/wp-content/uploads/2023/01/lead-with-Joy.jpg
ORGANIZER;CN="The Secret Door Gallery and Wellness Centre":MAILTO:info@thesecretdoormh.com
END:VEVENT
BEGIN:VEVENT
DTSTART;TZID=America/Los_Angeles:20230119T183000
DTEND;TZID=America/Los_Angeles:20230119T193000
DTSTAMP:20260421T085540
CREATED:20230103T234332Z
LAST-MODIFIED:20230103T234332Z
UID:5725-1674153000-1674156600@thesecretdoormh.com
SUMMARY:Lead with JOY - 7 Week Series
DESCRIPTION:Whether you are wanting to balance all 7 chakras or are interested in working on one specific chakra\, this 7-week exploration to center on what is. We will ground and nourish ourselves from our sacred chakras through gentle and intuitive yoga. Thursday evenings starting January 12th – February 23rd from 6:30 pm – 7:30 pm $25
URL:https://thesecretdoormh.com/event/lead-with-joy-7-week-series-2/
LOCATION:The Secret Door Gallery and Wellness Centre\, 17015 Walnut Grove Dr. Suite 103\, Morgan Hill\, CA\, 95037\, United States
CATEGORIES:In Store Classes
ATTACH;FMTTYPE=image/jpeg:https://thesecretdoormh.com/wp-content/uploads/2023/01/lead-with-Joy.jpg
ORGANIZER;CN="The Secret Door Gallery and Wellness Centre":MAILTO:info@thesecretdoormh.com
END:VEVENT
BEGIN:VEVENT
DTSTART;TZID=America/Los_Angeles:20230112T183000
DTEND;TZID=America/Los_Angeles:20230112T193000
DTSTAMP:20260421T085540
CREATED:20230103T234102Z
LAST-MODIFIED:20230103T234102Z
UID:5724-1673548200-1673551800@thesecretdoormh.com
SUMMARY:Lead with JOY - 7 Week Series
DESCRIPTION:Whether you are wanting to balance all 7 chakras or are interested in working on one specific chakra\, this 7-week exploration to center on what is. We will ground and nourish ourselves from our sacred chakras through gentle and intuitive yoga. Thursday evenings starting January 12th – February 23rd from 6:30 pm – 7:30 pm $25
URL:https://thesecretdoormh.com/event/lead-with-joy-7-week-series/
LOCATION:The Secret Door Gallery and Wellness Centre\, 17015 Walnut Grove Dr. Suite 103\, Morgan Hill\, CA\, 95037\, United States
CATEGORIES:In Store Classes
ATTACH;FMTTYPE=image/jpeg:https://thesecretdoormh.com/wp-content/uploads/2023/01/lead-with-Joy.jpg
ORGANIZER;CN="The Secret Door Gallery and Wellness Centre":MAILTO:info@thesecretdoormh.com
END:VEVENT
BEGIN:VEVENT
DTSTART;TZID=America/Los_Angeles:20221020T183000
DTEND;TZID=America/Los_Angeles:20221020T193000
DTSTAMP:20260421T085540
CREATED:20221001T135819Z
LAST-MODIFIED:20221001T163746Z
UID:5634-1666290600-1666294200@thesecretdoormh.com
SUMMARY:Introduction to Chakras Class
DESCRIPTION:Have you heard the word Chakra being used in metaphysical spaces or spirit-based practices? Ever wondered if it was part of a religion or just a funny new-age term? Well\, this class is for you!\n\nIn this fun and informative one-hour class we will give a high-touch overview of all things Chakra related. We will cover history and etymology\, original name\, location\, and translation. As well as exploring what parts of the physical\, energetic and spiritual body each chakra governs.
URL:https://thesecretdoormh.com/event/introduction-to-chakras-class/
LOCATION:The Secret Door Gallery and Wellness Centre\, 17015 Walnut Grove Dr. Suite 103\, Morgan Hill\, CA\, 95037\, United States
CATEGORIES:In Store Classes
ATTACH;FMTTYPE=image/jpeg:https://thesecretdoormh.com/wp-content/uploads/2022/10/introtochakras.jpg
END:VEVENT
BEGIN:VEVENT
DTSTART;TZID=America/Los_Angeles:20221008T120000
DTEND;TZID=America/Los_Angeles:20221008T140000
DTSTAMP:20260421T085540
CREATED:20221004T201655Z
LAST-MODIFIED:20221004T213612Z
UID:5644-1665230400-1665237600@thesecretdoormh.com
SUMMARY:Reiki Drum Journey - with Dez
DESCRIPTION:REIKI DRUMMING JOURNEY\n\nThis Reiki Drumming Journey will consist of a guided meditation\, a non-denominational prayer of protection and devotion\, and then a drumming session with the intention of learning what we need to do to find our peace/motivation/voice/heal past wounds\, and get out of our own way. All that’s needed is a pillow/blanket or whatever you need to be comfortable on the floor\, water\, and a journal or pen/paper. These sessions are great for gaining clarity on what might be blocking you\, or helping you learn how to clear your path and move forward. After the drumming\, there will be time allowed for brief journaling of your experience\, followed by Q&A\, where Dez of @blacklotushealingarts will tune into your specific energy\, offer clarity\, and answer any remaining questions you may have.
URL:https://thesecretdoormh.com/event/reiki-drum-journey-with-dez/
LOCATION:The Secret Door Gallery and Wellness Centre\, 17015 Walnut Grove Dr. Suite 103\, Morgan Hill\, CA\, 95037\, United States
CATEGORIES:In Store Classes
ATTACH;FMTTYPE=image/jpeg:https://thesecretdoormh.com/wp-content/uploads/2022/10/reikidrums.jpg
END:VEVENT
BEGIN:VEVENT
DTSTART;TZID=America/Los_Angeles:20220922T183000
DTEND;TZID=America/Los_Angeles:20220922T193000
DTSTAMP:20260421T085540
CREATED:20220824T213708Z
LAST-MODIFIED:20220916T151150Z
UID:5437-1663871400-1663875000@thesecretdoormh.com
SUMMARY:Introduction to Crystals Class
DESCRIPTION:Are you interested in learning how to incorporate crystal energy into your everyday life? Are you curious about crystal properties and what combinations of stones have the best synergy? \nIn this one-hour class\, we go over a brief history of human crystal usage\, crystal structure\, how to care for and cleanse your Crystals\, Crystal placement and most importantly how to choose the right Crystals for your specific needs.\n\nWe conclude with a LIVE Q&A where you can ask any Crystal questions you may have\, get stones identified\, and/ or get a Crystal Prescription on the spot!\n\nWe hope you can join us!
URL:https://thesecretdoormh.com/event/introduction-to-crystals-class/
LOCATION:The Secret Door Gallery and Wellness Centre\, 17015 Walnut Grove Dr. Suite 103\, Morgan Hill\, CA\, 95037\, United States
CATEGORIES:In Store Classes
ATTACH;FMTTYPE=image/jpeg:https://thesecretdoormh.com/wp-content/uploads/2022/08/rainacrystals.jpg
END:VEVENT
BEGIN:VEVENT
DTSTART;TZID=America/Los_Angeles:20220702T093000
DTEND;TZID=America/Los_Angeles:20220702T110000
DTSTAMP:20260421T085540
CREATED:20220626T113757Z
LAST-MODIFIED:20220627T042939Z
UID:5087-1656754200-1656759600@thesecretdoormh.com
SUMMARY:Guided Meditation and Freedom Flow with Jo
DESCRIPTION:Jo is a multiethnic Kanaka Maoli (Native Hawaiian) serving as a steward of well-being through Yoga\, Buddhist practices\, and decolonizing wellbeing. A student of Yoga since 2000\, she has found flow and purpose teaching Yogic practice and philosophy since 2007\, primarily to marginalized or historically oppressed community members in Tucson\, California\, India\, Dublin\, Thailand\, the UAE\, Saudi Arabia\, and NYC (where she co-owned a center). Wanting to honor the Indigenous source of the philosophy/practice\, her Yoga teacher trainings were primarily in India through the Sivananda lineage (as well as through Yoga Connection in Tucson\, AZ). She is currently co-leading a yoga teacher training with Project Koa Yoga\, centering Hawaiian culture and BIPOC and QTIA2SMāhū+ individuals.\n\nFor tickets click HERE
URL:https://thesecretdoormh.com/event/guided-meditation-and-freedom-flow-with-jo/
LOCATION:The Secret Door Gallery and Wellness Centre\, 17015 Walnut Grove Dr. Suite 103\, Morgan Hill\, CA\, 95037\, United States
CATEGORIES:In Store Classes
ATTACH;FMTTYPE=image/jpeg:https://thesecretdoormh.com/wp-content/uploads/2022/06/yoga-flow.jpg
ORGANIZER;CN="The Secret Door Gallery and Wellness Centre":MAILTO:info@thesecretdoormh.com
END:VEVENT
BEGIN:VEVENT
DTSTART;TZID=America/Los_Angeles:20211020T183000
DTEND;TZID=America/Los_Angeles:20211020T203000
DTSTAMP:20260421T085540
CREATED:20210928T201752Z
LAST-MODIFIED:20211002T062130Z
UID:4764-1634754600-1634761800@thesecretdoormh.com
SUMMARY:Introduction to Crystals - In Store & Virtual
DESCRIPTION:Have you noticed the recent proliferation of interest in crystals and crystal healing? Have you been curious about how crystals might enhance your life? \nJoin The Secret Door for a hybrid in-person/ online class where you will be introduced to a brief history of human crystal usage throughout the ages. We will discuss how to select crystals for their specific energetic resonance\, how to cleanse your crystals and where to place them in your environment\, as well as exploring various ways to incorporate crystals into your everyday life. \n\n\n\n\nThis amazing course will be live in-person and interactive via Zoom. Once the class information is dispensed you are invited to ask any questions you’ve been wondering about crystals and even have stones in your collection identified. We hope to see you all there!
URL:https://thesecretdoormh.com/event/introduction-to-crystals-in-store-class/
LOCATION:The Secret Door\, 13 West 2nd Street\, Morgan Hill\, CA\, 95037\, United States
CATEGORIES:In Store Classes
ATTACH;FMTTYPE=image/jpeg:https://thesecretdoormh.com/wp-content/uploads/2021/09/Introduction-to-Crystals-class.jpg
END:VEVENT
BEGIN:VEVENT
DTSTART;TZID=America/Los_Angeles:20210718T110000
DTEND;TZID=America/Los_Angeles:20210718T140000
DTSTAMP:20260421T085540
CREATED:20210618T022156Z
LAST-MODIFIED:20210715T130240Z
UID:4303-1626606000-1626616800@thesecretdoormh.com
SUMMARY:Mala Class - In Store
DESCRIPTION:Please join us July 18th 11:00 am for our in store Mala class. Price includes all materials to make our own mala. \nA mala (translation: garland) is a string of 108 beads with one bead as the summit or head bead called a ‘sumeru.’ Malas are used as a tool to help the mind focus on meditation\, prayer or to count mantras in sets of 108 repetitions. Although not specifically a religious accessory\, malas\, (see also prayer beads or rosaries) can be used in prayer\, meditation\, or for manifestation..” \nSome place great importance in the components of which the mala is composed claiming one material is best for a certain type of devotion over another\, typically the crystals and/ or colors of the tassel . However\, it’s not just the material of which the mala is made but the frequency of use and intentions of the person which are of ultimate importance. Malas are a hugely energetic and meaningful accessory you can give as a gift or specifically create to fit your personal aesthetic.
URL:https://thesecretdoormh.com/event/mala-class-in-store/
LOCATION:The Secret Door\, 13 West 2nd Street\, Morgan Hill\, CA\, 95037\, United States
CATEGORIES:In Store Classes
ATTACH;FMTTYPE=image/jpeg:https://thesecretdoormh.com/wp-content/uploads/2021/06/malaclass.jpg
END:VEVENT
END:VCALENDAR